

BEGIN:VCALENDAR
VERSION:2.0
PRODID:-//hacksw/handcal//NONSGML v1.0//EN
CALSCALE:GREGORIAN
BEGIN:VEVENT
DTSTART:20231202T000000Z
DTEND:20231202T000000Z
DESCRIPTION:Annual Christmas Parade
LOCATION:
SUMMARY:The Milan Area Chamber has hosted the Christmas Parade in Milan for over 20 years. 
Join us this year on Saturday\, December 2nd as we take a stroll down Candy Cane Lane! Live Music starts at 5:30 pm in Tolan Square with the parade beginning at 7 pm! Stay on the lookout for more fun events and activities that day!
URL;VALUE=URI:https://milanevents.org/eventdetail.php?id=1043
DTSTAMP:20260424T112310Z
UID:69eb8ade42e8a
END:VEVENT
END:VCALENDAR