

BEGIN:VCALENDAR
VERSION:2.0
PRODID:-//hacksw/handcal//NONSGML v1.0//EN
CALSCALE:GREGORIAN
BEGIN:VEVENT
DTSTART:20250123T000000Z
DTEND:20250123T000000Z
DESCRIPTION:Milan's Dementia Friendly Challenge: Presentation
LOCATION:45 Neckel Ct\, Milan\, MI\, United States\, Michigan 48160
SUMMARY:What does a Dementia Friendly community look like? Why is it important? How can you help?

Come learn how your business or organization can become dementia friendly.

Learn how banks\, stores\, restaurants\, places of worship\, and other businesses and organizations can be a safer place for folks living with dementia. Hear why this is important and learn the first steps you can take toward becoming Dementia Friendly.

Presented by Dementia Friendly Saline and supported by Milan Seniors for Healthy Living and The Milan Area Chamber\, take advantage of this awesome\, free opportunity.

Light refreshments will be provided. 

Register here: https://forms.gle/smTNGk5r4CJt81ZF8
URL;VALUE=URI:https://milanevents.org/eventdetail.php?id=1556
DTSTAMP:20260420T013050Z
UID:69e5ba0a69893
END:VEVENT
END:VCALENDAR