

BEGIN:VCALENDAR
VERSION:2.0
PRODID:-//hacksw/handcal//NONSGML v1.0//EN
CALSCALE:GREGORIAN
BEGIN:VEVENT
DTSTART:20250802T000000Z
DTEND:20250802T000000Z
DESCRIPTION:Milan Carfest
LOCATION:
SUMMARY:28th Annual Milan Carfest in Wilson Park. An all makes\, models and ages car show. 15 different classes with awards. Come celebrate the car culture with us.
URL;VALUE=URI:https://milanevents.org/eventdetail.php?id=1612
DTSTAMP:20260423T132859Z
UID:69ea56db0d1b1
END:VEVENT
END:VCALENDAR