

BEGIN:VCALENDAR
VERSION:2.0
PRODID:-//hacksw/handcal//NONSGML v1.0//EN
CALSCALE:GREGORIAN
BEGIN:VEVENT
DTSTART:20260309T000000Z
DTEND:20260309T000000Z
DESCRIPTION:Free trees for youth - sign up
LOCATION:
SUMMARY:Milan Public Library is partnering with Neighborhood Forest to give free trees (small seedlings) to children and teens to plant at their homes for Earth Day.

Sign up by March 15 here: https://www.neighborhoodforest.org/registration-services/?school=22320

Neighborhood Forest will choose a tree that is native to Michigan and will let us know what we will receive in early April.

Trees will arrive at the library just before Earth Day (April 22). Families will receive emails at that time with details about picking up their trees from the library. 

If you have any questions\, please contact the library at youth@milanlibrary.org or 734-439-1240.
URL;VALUE=URI:https://milanevents.org/eventdetail.php?id=2435
DTSTAMP:20260419T124410Z
UID:69e5065a8be0d
END:VEVENT
END:VCALENDAR