

BEGIN:VCALENDAR
VERSION:2.0
PRODID:-//hacksw/handcal//NONSGML v1.0//EN
CALSCALE:GREGORIAN
BEGIN:VEVENT
DTSTART:20260905T000000Z
DTEND:20260905T000000Z
DESCRIPTION:OG Day Drinker Music Saturdays
LOCATION:
SUMMARY:Live music and day drinking on the patio!
We have an amazing line-up of bands again this year!
Check back for individual musician event pages each week.
Cheers!
URL;VALUE=URI:https://milanevents.org/eventdetail.php?id=2542
DTSTAMP:20260423T115315Z
UID:69ea406b8e92f
END:VEVENT
END:VCALENDAR