

BEGIN:VCALENDAR
VERSION:2.0
PRODID:-//hacksw/handcal//NONSGML v1.0//EN
CALSCALE:GREGORIAN
BEGIN:VEVENT
DTSTART:20260429T000000Z
DTEND:20260429T000000Z
DESCRIPTION:Chamber Collective | Spring 2026
LOCATION:20390 Michigan 52\, Chelsea\, MI\, United States\, 48118
SUMMARY:Join the Ann Arbor/Ypsilanti Regional Chamber\, Greater Brighton Area Chamber of Commerce\, Chelsea Area Chamber of Commerce\, Dexter Area Chamber of Commerce\, Grass Lake Regional Chamber of Commerce\, Manchester Downtown Development Authority\, Milan Chamber of Commerce\, Saline Area Chamber of Commerce\, and the Stockbridge Area Chamber of Commerce for an evening of good company and excellent networking at the wonderful Robin Hills Farm! This is a free\, informal event\, and members from all organizations are welcome. The Cookin’ with Beans food truck will be on location\, cash bar\, and we’ll have chill music for your enjoyment. Thank you to Robin Hills Farm for Hosting and Sponsoring the Spring Collective. So mark your calendars and plan to attend what promises to be an awesome event for our region!
Please RSVP at the ticket link.
URL;VALUE=URI:https://milanevents.org/eventdetail.php?id=2558
DTSTAMP:20260420T095558Z
UID:69e6306e63913
END:VEVENT
END:VCALENDAR