

BEGIN:VCALENDAR
VERSION:2.0
PRODID:-//hacksw/handcal//NONSGML v1.0//EN
CALSCALE:GREGORIAN
BEGIN:VEVENT
DTSTART:20260812T000000Z
DTEND:20260812T000000Z
DESCRIPTION:Milan Chamber Golf Outing
LOCATION:5820 Stoney Creek Rd\, Ypsilanti\, MI 48197
SUMMARY:⛳️ Tee Up for One of Milan’s Favorite Events!

Join us for the Milan Area Chamber Golf Outing on Wednesday\, August 12 at Pine View Golf Course! Kick off the day with a 9:00 AM shotgun start and enjoy a fun-filled experience on the course with fellow community members and local businesses.

Your registration includes lunch at the turn\, dinner\, and access to raffles\, games\, and prizes—plus plenty of opportunities to make great connections along the way. Whether you're coming with a team or signing up individually\, it’s the perfect mix of networking and fun.

⛳ $500 per foursome | $125 per individual golfer
🔥 Early Bird Special available — $450 for foursome - expires May 24!
URL;VALUE=URI:https://milanevents.org/eventdetail.php?id=2559
DTSTAMP:20260424T101928Z
UID:69eb7bf0ea8ae
END:VEVENT
END:VCALENDAR