

BEGIN:VCALENDAR
VERSION:2.0
PRODID:-//hacksw/handcal//NONSGML v1.0//EN
CALSCALE:GREGORIAN
BEGIN:VEVENT
DTSTART:20230603T000000Z
DTEND:20230603T000000Z
DESCRIPTION:Milan Fair - Day 3 of 3
LOCATION:
SUMMARY:Welcome to the 74 Annual Milan Community Fair. It's the perfect way to kick off the summer of 2023. Spend the day with the whole family\, with so many fun-filled activities! Fair highlights include the marketplace\, live entertainment\, make-it-take-it crafts\, free kid's activities\, midway rides\, carnival games\, delicious fair food\, an entertainment tent\, and more!

Milan Community Fair 
June 1nd\, 2rd\, & 3th
Wilson Park
89 Wabash Street

Organization: Milan Community Fair\, Inc
www.milanfair.com
milanfair48160@comcast.net
734-604-5925
URL;VALUE=URI:https://milanevents.org/eventdetail.php?id=829
DTSTAMP:20260424T201145Z
UID:69ec06c162ef0
END:VEVENT
END:VCALENDAR