

BEGIN:VCALENDAR
VERSION:2.0
PRODID:-//hacksw/handcal//NONSGML v1.0//EN
CALSCALE:GREGORIAN
BEGIN:VEVENT
DTSTART:20231103T000000Z
DTEND:20231103T000000Z
DESCRIPTION:Storytime (Milan Public Library)
LOCATION:151 Wabash Street
SUMMARY:Storytime is for children ages 3 to 5. Older and younger siblings are welcome!  

Storytime includes books\, fingerplays\, songs\, movement activities\, flannel board stories\, and a craft.

Additional information is on our website: milanlibrary.org/children 
Registration is appreciated\, but not required: bit.ly/MPLprogramregistration

Storytime is held in the library at 10:30 on Friday mornings. Our fall schedule is:

September 15 - 29
October 13 &amp\; 27
(No Storytime on October 6 or 20)
November 3 - 17
(No Storytime on November 24)
December 1 - 15

If you have any questions\, please email youth@milanlibrary.org or call the library at 734-439-1240.
URL;VALUE=URI:https://milanevents.org/eventdetail.php?id=978
DTSTAMP:20260420T174405Z
UID:69e69e2582f98
END:VEVENT
END:VCALENDAR