

BEGIN:VCALENDAR
VERSION:2.0
PRODID:-//hacksw/handcal//NONSGML v1.0//EN
CALSCALE:GREGORIAN
BEGIN:VEVENT
DTSTART:20230919T000000Z
DTEND:20230919T000000Z
DESCRIPTION:Chapter Chatters (4th - 5th grade) - Milan Public Library
LOCATION:
SUMMARY:Chapter Chatters is Milan Public Library's book club for 4th and 5th graders.  We meet monthly to discuss books and participate in related activities.

We will meet in the Center or the library\, depending on the size of our group on the 3rd Tuesday of every month.

Each child will read or listen to the same book each month before book club and then discuss it and participate in activities or crafts related to the story during Chapter Chatters. Books will be available a month in advance.

Details: milanlibrary.org/children
Registration: https://bit.ly/MPLprogramregistration

If you have any questions\, please email youth@milanlibrary.org or call the library at 734-439-1240.
URL;VALUE=URI:https://milanevents.org/eventdetail.php?id=991
DTSTAMP:20260419T164743Z
UID:69e53f6fb5ace
END:VEVENT
END:VCALENDAR